Workbook
Name _ftnref1_50: '[1]Table 39_'!#REF!
Name _ftnref1_50_10: '[2]Table 39_'!#REF!
Name _ftnref1_50_15: '[2]Table 39_'!#REF!
Name _ftnref1_50_18: '[2]Table 39_'!#REF!
Name _ftnref1_50_19: '[2]Table 39_'!#REF!
Name _ftnref1_50_20: '[2]Table 39_'!#REF!
Name _ftnref1_50_21: '[2]Table 39_'!#REF!
Name _ftnref1_50_23: '[2]Table 39_'!#REF!
Name _ftnref1_50_24: '[2]Table 39_'!#REF!
Name _ftnref1_50_4: '[2]Table 39_'!#REF!
Name _ftnref1_50_5: '[2]Table 39_'!#REF!
Name _ftnref1_51: '[1]Table 39_'!#REF!
Name _ftnref1_51_10: '[2]Table 39_'!#REF!
Name _ftnref1_51_15: '[2]Table 39_'!#REF!
Name _ftnref1_51_18: '[2]Table 39_'!#REF!
Name _ftnref1_51_19: '[2]Table 39_'!#REF!
Name _ftnref1_51_20: '[2]Table 39_'!#REF!
Name _ftnref1_51_21: '[2]Table 39_'!#REF!
Name _ftnref1_51_23: '[2]Table 39_'!#REF!
Name _ftnref1_51_24: '[2]Table 39_'!#REF!
Name _ftnref1_51_4: '[2]Table 39_'!#REF!
Name _ftnref1_51_5: '[2]Table 39_'!#REF!
Name _h: '[2]Table 39_'!#REF!
Name Accounting: [3]Parameters!$C$109:$C$112
Name AP: '[4]Lists-Aux'!$D:$D
Name App: [5]Lists!$A$27:$A$29
Name AT: '[6]Lists-Aux'!$B:$B
Name BankType: [3]Parameters!$C$113:$C$115
Name BAS: '[4]Lists-Aux'!$A:$A
Name Basel: [7]Parameters!$C$32:$C$33
Name Basel12: #REF!
Name BT: '[4]Lists-Aux'!$E:$E
Name Carlos: #REF!
Name CCROTC: #REF!
Name CCRSFT: #REF!
Name COF: '[6]Lists-Aux'!$G:$G
Name COI: '[4]Lists-Aux'!$H:$H
Name CP: '[4]Lists-Aux'!$I:$I
Name CQS: '[4]Lists-Aux'!$J:$J
Name CT: '[4]Lists-Aux'!$K:$K
Name DATA: #REF!
Name dfd: [3]Parameters!#REF!
Name DimensionsNames: [6]Dimensions!$B$2:$B$79
Name dsa: #REF!
Name edc: [8]Members!$D$3:E$2477
Name ER: '[4]Lists-Aux'!$N:$N
Name fdsg: '[1]Table 39_'!#REF!
Name Frequency: [5]Lists!$A$21:$A$25
Name GA: '[4]Lists-Aux'!$P:$P
Name Group: [3]Parameters!$C$93:$C$94
Name Group2: [9]Parameters!$C$42:$C$43
Name ho: #REF!
Name IM: '[4]Lists-Aux'!$Q:$Q
Name IQ_CH: 110000
Name IQ_CQ: 5000
Name IQ_CY: 10000
Name IQ_DAILY: 500000
Name IQ_FH: 100000
Name IQ_FQ: 500
Name IQ_FY: 1000

Sheet Contents
B2: OTP Group Disclosure on consolidated basis
B3: 30.06.2026
B4: Key Metrics
B5: KM1 | C5: Key metrics template
B6: OV1 | C6: Overview of total risk exposure amounts
B8: Own funds
B9: CC1 | C9: Composition of regulatory own funds
B10: CC2 | C10: Reconciliation of regulatory own funds to balance sheet in the audited financial statements
B12: MREL
B13: KM2 | C13: Key metrics - MREL
B15: Countercyclical capital buffers
B16: CCYB1 | C16: Geographical distribution of credit exposures relevant for the calculation of the countercyclical buffer
B17: CCYB2 | C17: Amount of institution-specific countercyclical capital buffer
B19: Leverage ratio
B20: LR1 – LRSum | C20: Summary reconciliation of accounting assets and leverage ratio exposures
B21: LR2 – LRCom | C21: Leverage ratio common disclosure
B22: LR3 – LRSpl | C22: Split-up of on balance sheet exposures (excluding derivatives, SFTs and exempted exposures)
B24: Liquidity requirements
B25: LIQ1 | C25: Quantitative information of LCR
B26: LIQ2 | C26: Net Stable Funding Ratio
B28: Exposures to credit risk, dilution risk and credit quality
B29: CR1 | C29: Performing and non-performing exposures and related provisions
B30: CR1-A | C30: Maturity of exposures
B31: CR2 | C31: Changes in the stock of non-performing loans and advances
B32: CR2a | C32: Changes in the stock of non-performing loans and advances and related net accumulated recoveries
B33: CQ1 | C33: Credit quality of forborne exposures
B34: CQ4 | C34: Quality of non-performing exposures by geography
B35: CQ5 | C35: Credit quality of loans and advances to non-financial corporations by industry
B36: CQ7 | C36: Collateral obtained by taking possession and execution processes
B38: Use of credit risk mitigation techniques
B39: CR3 | C39: CRM techniques overview: Disclosure of the use of credit risk mitigation techniques
B41: Use of standardisd approach
B42: CR5 | C42: Standardised approach
B44: Exposures to counterparty credit risk
B45: CCR1 | C45: Analysis of CCR exposure by approach
B46: CCR2 | C46: Transactions subject to own funds requirements for CVA risk
B47: CCR3 | C47: Standardised approach – CCR exposures by regulatory exposure class and risk weights
B48: CCR5 | C48: Composition of collateral for CCR exposures
B49: CCR6 | C49: Credit derivatives exposures
B50: CCR8 | C50: Exposures to CCPs
...

Sheet Key metrics

Sheet KM1
B2: Back to contents page
B4: KM1 - Key metrics template
C9: (in HUF million) | D9: =+Contents!B3 -> 30.06.2026 | E9: 31.03.2026 | F9: 31.12.2025 | G9: 30.09.2025 | H9: 30.06.2025
B10: Available own funds (amounts)
B11: 1 | C11: Common Equity Tier 1 (CET1) capital | D11: 5148215.3 | E11: 5302424.5 | F11: 5253292 | G11: 5072556.9 | H11: 4907990
B12: 2 | C12: Tier 1 capital | D12: 5148215.3 | E12: 5302424.5 | F12: 5253292 | G12: 5072556.9 | H12: 4907990
B13: 3 | C13: Total capital | D13: 5949588.1 | E13: 5788186.1 | F13: 5725501.6 | G13: 5550795.4 | H13: 5396788.2
B14: Risk-weighted exposure amounts
B15: 4 | C15: Total risk exposure amount | D15: 29241540 | E15: 30171760 | F15: 29057123 | G15: 27575825 | H15: 27299499
B16: 4a | C16: Total risk exposure pre-floor
B17: Capital ratios (as a percentage of risk-weighted exposure amount)
B18: 5 | C18: Common Equity Tier 1 ratio (%) | D18: 0.1761 | E18: 0.1757 | F18: 0.1808 | G18: 0.1839 | H18: 0.1798
B19: 5a | C19: Not applicable
B20: 5b | C20: Common Equity Tier 1 ratio considering unfloored TREA (%)
B21: 6 | C21: Tier 1 ratio (%) | D21: 0.1761 | E21: 0.1757 | F21: 0.1808 | G21: 0.1839 | H21: 0.1798
B22: 6a | C22: Not applicable
B23: 6b | C23: Tier 1 ratio considering unfloored TREA (%)
B24: 7 | C24: Total capital ratio (%) | D24: 0.2035 | E24: 0.1918 | F24: 0.197 | G24: 0.2013 | H24: 0.1977
B25: 7a | C25: Not applicable
B26: 7b | C26: Total capital ratio considering unfloored TREA (%)
B27: Additional own funds requirements to address risks other than the risk of excessive leverage (as a percentage of risk-weighted exposure amount)
B28: EU 7d | C28: Additional own funds requirements to address risks other than the risk of excessive leverage (%) | D28: 0.0179 | E28: 0.0179 | F28: 0.0179 | G28: 0.0179 | H28: 0.0179
B29: EU 7e | C29: of which: to be made up of CET1 capital (percentage points) | D29: 0.0101 | E29: 0.0101 | F29: 0.0101 | G29: 0.0101 | H29: 0.0101
B30: EU 7f | C30: of which: to be made up of Tier 1 capital (percentage points) | D30: 0.0134 | E30: 0.0134 | F30: 0.0134 | G30: 0.0134 | H30: 0.0134
B31: EU 7g | C31: Total SREP own funds requirements (%) | D31: 0.0979 | E31: 0.0979 | F31: 0.0979 | G31: 0.0979 | H31: 0.0979
B32: Combined buffer and overall capital requirement (as a percentage of risk-weighted exposure amount)
B33: 8 | C33: Capital conservation buffer (%) | D33: 0.025 | E33: 0.025 | F33: 0.025 | G33: 0.025 | H33: 0.025
B34: EU 8a | C34: Conservation buffer due to macro-prudential or systemic risk identified at the level of a Member State (%) | D34: 0 | E34: 0 | F34: 0 | G34: 0 | H34: 0
B35: 9 | C35: Institution specific countercyclical capital buffer (%) | D35: 0.011 | E35: 0.0109 | F35: 0.0101 | G35: 0.0099 | H35: 0.0083
B36: EU 9a | C36: Systemic risk buffer (%) | D36: 0.0004 | E36: 0.0004 | F36: 0 | G36: 0 | H36: 0
B37: 10 | C37: Global Systemically Important Institution buffer (%) | D37: 0 | E37: 0 | F37: 0 | G37: 0 | H37: 0
B38: EU 10a | C38: Other Systemically Important Institution buffer (%) | D38: 0.02 | E38: 0.02 | F38: 0.02 | G38: 0.02 | H38: 0.02
B39: 11 | C39: Combined buffer requirement (%) | D39: 0.0564 | E39: 0.0563 | F39: 0.0551 | G39: 0.0549 | H39: 0.0533
B40: EU 11a | C40: Overall capital requirements (%) | D40: 0.1543 | E40: 0.1542 | F40: 0.153 | G40: 0.1528 | H40: 0.1512
B41: 12 | C41: CET1 available after meeting the total SREP own funds requirements (%) | D41: 0.1115 | E41: 0.1114 | F41: 0.1102 | G41: 0.11 | H41: 0.1084
B42: Leverage ratio
B43: 13 | C43: Total exposure measure | D43: 51223047 | E43: 51613964 | F43: 48684488 | G43: 49151577 | H43: 47540282
B44: 14 | C44: Leverage ratio (%) | D44: 0.1005 | E44: 0.1027 | F44: 0.1079 | G44: 0.1032 | H44: 0.1032
B45: Additional own funds requirements to address the risk of excessive leverage (as a percentage of total exposure measure)
B46: EU 14a | C46: Additional own funds requirements to address the risk of excessive leverage (%) | D46: 0 | E46: 0 | F46: 0 | G46: 0 | H46: 0
...

Sheet OV1
B2: Back to contents page
B4: OV1 - Overview of total risk exposure amounts
B6: The capital requirement calculation of the Group for 2026 is based on IFRS data. The prudential filters and deductions have been applied in line with the CRR during the calculation of regulatory capital. The Group applied standardized capital calculation method regarding credit and market risk, standardized measurement approach (SMA) regarding the operational risk.
C9: (in HUF million) | D9: Total risk exposure amounts (TREA) | F9: Total own funds requirements
D10: =+Contents!B3 -> 30.06.2026 | E10: 31.12.2025 | F10: =D10 -> 30.06.2026
B11: 1 | C11: Credit risk (excluding CCR) | D11: 24778060 | E11: 24574557 | F11: 1982244.8
B12: 2 | C12: Of which the standardised approach | D12: 24778060 | E12: 24574557 | F12: 1982244.8
B13: 3 | C13: Of which the Foundation IRB (F-IRB) approach | D13: 0 | E13: 0 | F13: 0
B14: 4 | C14: Of which slotting approach | D14: 0 | E14: 0 | F14: 0
B15: EU 4a | C15: Of which equities under the simple risk weighted approach | D15: 0 | E15: 0 | F15: 0
B16: 5 | C16: Of which the Advanced IRB (A-IRB) approach | D16: 0 | E16: 0 | F16: 0
B17: 6 | C17: Counterparty credit risk - CCR | D17: 187869.02 | E17: 213634.09 | F17: 15029.521
B18: 7 | C18: Of which the standardised approach | D18: 187869.02 | E18: 213632.31 | F18: 15029.521
B19: 8 | C19: Of which internal model method (IMM) | D19: 0 | E19: 0 | F19: 0
B20: EU 8a | C20: Of which exposures to a CCP | D20: 5.98 | E20: 1.78 | F20: 0.4784
B21: 9 | C21: Of which other CCR | D21: 0 | E21: 0 | F21: 0
B22: 10 | C22: Credit valuation adjustments risk - CVA risk | D22: 54288.196 | E22: 80859.968 | F22: 4343.0557
B23: EU 10a | C23: Of which the standardised approach (SA) | D23: 0 | E23: 0 | F23: 0
B24: EU 10b | C24: Of which the basic approach (F-BA and R-BA) | D24: 54288.196 | E24: 80859.968 | F24: 4343.0557
B25: EU 10c | C25: Of which the simplified approach | D25: 0 | E25: 0 | F25: 0
B26: 11 | C26: Not applicable | D26: 0 | E26: 0 | F26: 0
B27: 12 | C27: Not applicable | D27: 0 | E27: 0 | F27: 0
B28: 13 | C28: Not applicable | D28: 0 | E28: 0 | F28: 0
B29: 14 | C29: Not applicable | D29: 0 | E29: 0 | F29: 0
B30: 15 | C30: Settlement risk | D30: 0 | E30: 0 | F30: 0
B31: 16 | C31: Securitisation exposures in the non-trading book (after the cap) | D31: 0 | E31: 0 | F31: 0
B32: 17 | C32: Of which SEC-IRBA approach | D32: 0 | E32: 0 | F32: 0
B33: 18 | C33: Of which SEC-ERBA (including IAA) | D33: 0 | E33: 0 | F33: 0
B34: 19 | C34: Of which SEC-SA approach | D34: 0 | E34: 0 | F34: 0
B35: EU 19a | C35: Of which 1250% / deduction | D35: 0 | E35: 0 | F35: 0
B36: 20 | C36: Position, foreign exchange and commodities risks (Market risk) | D36: 381695.68 | E36: 348445.08 | F36: 30535.654
B37: 21 | C37: Of which the Alternative standardised approach (A-SA) | D37: 381695.68 | E37: 348445.08 | F37: 30535.654
B38: EU 21a | C38: Of which the Simplified standardised approach (S-SA) | D38: 0 | E38: 0 | F38: 0
B39: 22 | C39: Of which Alternative Internal Model Approach (A-IMA) | D39: 0 | E39: 0 | F39: 0
B40: EU 22a | C40: Large exposures | D40: 0 | E40: 0 | F40: 0
B41: 23 | C41: Reclassifications between the trading and non-trading books | D41: 0 | E41: 0 | F41: 0
B42: 24 | C42: Operational risk | D42: 3839627 | E42: 3839627 | F42: 307170.16
B43: EU 24a | C43: Exposures to crypto-assets | D43: 0 | E43: 0 | F43: 0
B44: 25 | C44: Amounts below the thresholds for deduction (subject to 250% risk weight) | D44: 0 | E44: 0 | F44: 0
B45: 26 | C45: Output floor applied (%) | D45: 0 | E45: 0 | F45: 0
...

Sheet Own funds

Sheet CC1
B2: Back to contents page
B4: CC1 - Composition of regulatory own funds
C8: =+Contents!B3 -> 30.06.2026
B9: (in HUF million) | E9: Source based on reference numbers/ letters of the balance sheet under the regulatory scope of consolidation
B10: Common Equity Tier 1 capital: instruments and reserves
B11: 1 | C11: Capital instruments and the related share premium accounts | D11: 28000.001 | E11: h
C12: of which: share | D12: 28000.001
B13: 2 | C13: Retained earnings1 | D13: 5760870.5
B14: 3 | C14: Accumulated other comprehensive income (and other reserves) | D14: 79225.101
B15: EU-3a | C15: Funds for general banking risk | D15: 0
B16: 4 | C16: Amount of qualifying items referred to in Article 484 (3) CRR and the related share premium accounts subject to phase out from CET1
B17: 5 | C17: Minority interests (amount allowed in consolidated CET1) | D17: 40551.614
B18: EU-5a | C18: Independently reviewed interim profits net of any foreseeable charge or dividend | D18: 0
B19: 6 | C19: Common Equity Tier 1 (CET1) capital before regulatory adjustments | D19: 5908647.2
B20: Common Equity Tier 1 (CET1) capital: regulatory adjustments
B21: 7 | C21: Additional value adjustments (negative amount) | D21: -5584.2264
B22: 8 | C22: Intangible assets (net of related tax liability) (negative amount) | D22: -208368.7 | E22: a - d
B23: 10 | C23: Deferred tax assets that rely on future profitability excluding those arising from temporary differences (net of related tax liability where the conditions in Article 38 (3) CRR are met) (negative amount) | D23: -27256.45
B24: 11 | C24: Fair value reserves related to gains or losses on cash flow hedges of financial instruments that are not valued at fair value
B25: 12 | C25: Negative amounts resulting from the calculation of expected loss amounts
B26: 13 | C26: Any increase in equity that results from securitised assets (negative amount)
B27: 14 | C27: Gains or losses on liabilities valued at fair value resulting from changes in own credit standing
B28: 15 | C28: Defined-benefit pension fund assets (negative amount)
B29: 16 | C29: Direct, indirect and synthetic holdings by an institution of own CET1 instruments (negative amount) | D29: -478362.05
B30: 17 | C30: Direct, indirect and synthetic holdings of the CET 1 instruments of financial sector entities where those entities have reciprocal cross holdings with the institution designed to inflate artificially the own funds of the institution (negative amount)
B31: 18 | C31: Direct, indirect and synthetic holdings by the institution of the CET1 instruments of financial sector entities where the institution does not have a significant investment in those entities (amount above 10% threshold and net of eligible short positions) (negative amount)
B32: 19 | C32: Direct, indirect and synthetic holdings by the institution of the CET1 instruments of financial sector entities where the institution has a significant investment in those entities (amount above 10% threshold and net of eligible short positions) (negative amount)
B33: EU-20a | C33: Exposure amount of the following items which qualify for a RW of 1 250%, where the institution opts for the deduction alternative
B34: EU-20b | C34: of which: qualifying holdings outside the financial sector (negative amount)
B35: EU-20c | C35: of which: securitisation positions (negative amount)
B36: EU-20d | C36: of which: free deliveries (negative amount)
B37: 21 | C37: Deferred tax assets arising from temporary differences (amount above 10% threshold, net of related tax liability where the conditions in Article 38 (3) CRR are met) (negative amount)
B38: 22 | C38: Amount exceeding the 17,65% threshold (negative amount)
B39: 23 | C39: of which: direct, indirect and synthetic holdings by the institution of the CET1 instruments of financial sector entities where the institution has a significant investment in those entities
B40: 25 | C40: of which: deferred tax assets arising from temporary differences
B41: EU-25a | C41: Losses for the current financial year (negative amount)
B42: EU-25b | C42: Foreseeable tax charges relating to CET1 items except where the institution suitably adjusts the amount of CET1 items insofar as such tax charges reduce the amount up to which those items may be used to cover risks or losses (negative amount)
B43: 27 | C43: Qualifying AT1 deductions that exceed the AT1 items of the institution (negative amount)
B44: 27a | C44: Other regulatory adjustments | D44: -40860.533
B45: 28 | C45: Total regulatory adjustments to Common Equity Tier 1 (CET1) | D45: -760431.96
...

Sheet CC2
B2: Back to contents page
B4: CC2 - Reconciliation of regulatory own funds to balance sheet in the audited financial statements
C8: =+Contents!B3 -> 30.06.2026
C9: (in HUF million) | D9: Under regulatory scope of consolidation | E9: Balance sheet as in published financial statements1 | F9: Reference
C11: Cash, amounts due from banks and balances with the National Banks | D11: 6199250 | E11: 6180434
C12: Placements with other banks, net of loss allowance for placements | D12: 952790 | E12: 959926 | F12: 7*
C13: Repo receivables | D13: 157757 | E13: 157757
C14: Financial assets at fair value through profit or loss | D14: 514906 | E14: 523777 | F14: 7*
C15: Securities at fair value through other comprehensive income | D15: 2307040 | E15: 2301675 | F15: 7*
C16: Of which: direct, indirect and synthetic significant holdings of the CET1 instruments of financial sector entities | D16: 50.610332 | E16: n.a. | F16: 22
C17: Of which: direct and indirect not singnificant holdings of the CET1 instruments of financial sector entities | D17: 46060.892 | E17: n.a. | F17: 18, 72
C18: Securities at amortized cost | D18: 8062208 | E18: 8064411
C19: Loans at amorized cost and mandatorily at fair value through profit or loss | D19: 22448820 | E19: 22410974
C20: Loans mandatorily at fair value through profit or loss | D20: 2407778 | E20: 2409653
C21: Finance lease receivables | D21: 1637433 | E21: 1636391
C22: Associates and other investments | D22: 193808 | E22: 153137
C23: Of which: direct, indirect and synthetic significant holdings of the CET1 instruments of financial sector entities | D23: 12860.776 | E23: n.a. | F23: 22
C24: Of which: direct and indirect not singnificant holdings of the CET1 instruments of financial sector entities | D24: 6337.5349 | E24: n.a. | F24: 18, 72
C25: Property and equipment | D25: 547063 | E25: 572804
C26: Intangible assets and goodwill | D26: 374788 | E26: 381289 | F26: 8
C27: Right-of-use assets | D27: 76368 | E27: 82024
C28: Investment properties | D28: 64802 | E28: 76567
C29: Derivative financial assets designated as hedge accounting | D29: 27474 | E29: 27474 | F29: 7*
C30: Deferred tax assets | D30: 70397 | E30: 70647
C31: Of which: deferred tax assets that rely on future profitability, do not arise from temporary difference (2) | D31: 27256.45 | E31: n.a. | F31: 10
C32: Of which: deferred tax assets that rely on future profitability, arise from temporary difference (2) | D32: 43863.851 | E32: n.a. | F32: 25
C33: Current income tax receivables | D33: 36517 | E33: 36655
C34: Other assets | D34: 787670 | E34: 552452
C35: Assets classified as held-for-sale / discounted operations | D35: 0 | E35: 68617
C36: TOTAL ASSETS | D36: 46866869 | E36: 46666664
C37: Amounts due to banks, the National Governments, deposits from the National Banks and other banks | D37: 1453194 | E37: 1429204
C38: Repo liabilities | D38: 704886 | E38: 704886
C39: Financial liabilities designated at fair value through profit or loss | D39: 15697 | E39: 88881 | F39: 7*
C40: Deposits from customers | D40: 33878233 | E40: 33721692
C41: Fair value changes of the hedged items in portfolio hedge of interest rate risk | D41: 25098 | E41: 25098
C42: Liabilities from issued securities | D42: 2724590 | E42: 2724590
C43: Derivative financial liabilities held for trading | D43: 291059 | E43: 163485 | F43: 7*
C44: Derivative financial liabilities designated as hedge accounting | D44: 146689 | E44: 146689 | F44: 7*
C45: Leasing liabilities | D45: 77180 | E45: 79742
C46: Deferred tax liabilities | D46: 28778 | E46: 29044
...

Sheet MREL

Sheet KM2
B1: Back to contents page
B2: KM2: Key metrics - MREL
B4: The information in template EU KM2 is disclosed at the level of OTP Bank's resolution group that is different from the prudentially consolidated group under the CRR. The preferred resolution strategy for the OTP Group is based on the Multiple Point of Entry (MPE) strategy and OTP Bank as resolution entity fulfills the minimum requirement for own funds and eligible liabilities (MREL requirement) on a consoldiated basis at the level of OTP Bank’s resolution group. Applicable MREL requirements and the composition of OTP Bank's resolution group are disclosed on OTP Bank's website: https://www.otpgroup.info/static/sw/file/260327_MREL_046_e.pdf Disclosure is based on Article 45i (3) of the BRRD (2014/59/EU Directive as amended by 2019/879/EU Directive) and Delegated Regulation (EU) 2021/763.
B5: =Contents!B3 -> 30.06.2026
C6: (in HUF million) | D6: a
D7: Minimum requirement for own funds and eligible liabilities (MREL)
B8: Own funds and eligible liabilities, ratios and components
B9: 1 | C9: Own funds and eligible liabilities | D9: 7054166.9
B10: EU-1a | C10: Of which own funds and subordinated liabilities | D10: 5850561.3
B11: 2 | C11: Total risk exposure amount of the resolution group (TREA) | D11: 27208480
B12: 3 | C12: Own funds and eligible liabilities as a percentage of TREA (row1/row2) | D12: 0.25926355
B13: EU-3a | C13: Of which own funds and subordinated liabilities | D13: 0.21502713
B14: 4 | C14: Total exposure measure of the resolution group | D14: 46414338
B15: 5 | C15: Own funds and eligible liabilities as percentage of the total exposure measure | D15: 0.15198249
B16: EU-5a | C16: Of which own funds or subordinated liabilities | D16: 0.12605073
B17: 6a | C17: Does the subordination exemption in Article 72b(4) of the CRR apply? (5% exemption)
B18: 6b | C18: Pro-memo item - Aggregate amount of permitted non-subordinated eligible liabilities in-struments If the subordination discretion as per Article 72b(3) CRR is applied (max 3.5% exemption)
B19: 6c | C19: Pro-memo item: If a capped subordination exemption applies under Article 72b (3) CRR, the amount of funding issued that ranks pari passu with excluded liabilities and that is recognised under row 1, divided by funding issued that ranks pari passu with excluded Liabilities and that would be recognised under row 1 if no cap was applied (%)
B20: Minimum requirement for own funds and eligible liabilities (MREL)
B21: EU-7 | C21: MREL requirement expressed as percentage of the total risk exposure amount | D21: 0.1823
B22: EU-8 | C22: Of which to be met with own funds or subordinated liabilities* | D22: 0.135
B23: EU-9 | C23: MREL requirement expressed as percentage of the total exposure measure | D23: 0.0632
B24: EU-10 | C24: Of which to be met with own funds or subordinated liabilities* | D24: 0.05
C26: *Subordination requirements will be applicable from 16 December 2024

Sheet Countercyclical capital buffers

Sheet CCyB1
B2: Back to contents page
B4: CCyB1 - Geographical distribution of credit exposures relevant for the calculation of the countercyclical buffer
B6: In accordance with the Article 140 of CRD, institution-specific countercyclical capital buffer consists of the weighted average of the countercyclical buffer rates that apply in the jurisdictions where the relevant credit exposures of the institution are located.
C8: =Contents!B3 -> 30.06.2026
C9: (in HUF million) | D9: General credit exposures | F9: Relevant credit exposures – Market risk | H9: Securitisation exposures Exposure value for non- trading book | I9: Total exposure value | J9: Own fund requirements | N9: Risk-weighted exposure amounts | O9: Own fund requirements weights (%) | P9: Counter­ cyclical buffer rate (%)
D10: Exposure value under the stan­ dardised approach | E10: Exposure value under the IRB approach | F10: Sum of long and short positions of trading book exposures for SA | G10: Value of trading book exposures for internal models | J10: Relevant credit risk exposures - Credit risk | K10: Relevant credit exposures – Market risk | L10: Relevant credit exposures – Securitisation positions in the non-trading book | M10: Total
C11: Albania | D11: 599627.32 | E11: 0 | F11: 0 | I11: 599627.32 | J11: 47970.185 | K11: 0 | M11: 47970.185 | N11: 565795.65 | O11: 0.0188 | P11: 0.005
C12: Belgium | D12: 49430.548 | E12: 0 | F12: 0 | I12: 49430.548 | J12: 3954.4439 | K12: 0 | M12: 3954.4439 | N12: 29286.263 | O12: 0.0007 | P12: 0.01
C13: Bulgaria | D13: 5855892.1 | E13: 0 | F13: 0 | I13: 5855892.1 | J13: 468471.37 | K13: 0 | M13: 468471.37 | N13: 3746726.2 | O13: 0.1748 | P13: 0.02
C14: Czech Republic | D14: 4040.8229 | E14: 0 | F14: 0 | I14: 4040.8229 | J14: 323.26583 | K14: 0 | M14: 323.26583 | N14: 4729.3944 | O14: 0.0002 | P14: 0.0125
C15: Germany | D15: 141253.77 | E15: 0 | F15: 124.70554 | I15: 141378.48 | J15: 11300.302 | K15: 9.9764433 | M15: 11310.278 | N15: 161267.74 | O15: 0.0063 | P15: 0.0075
C16: Denmark | D16: 7233.0203 | E16: 0 | F16: 0 | I16: 7233.0203 | J16: 578.64162 | K16: 0 | M16: 578.64162 | N16: 13844.967 | O16: 0.0005 | P16: 0.025
C17: Spain | D17: 17940.478 | E17: 0 | F17: 0 | I17: 17940.478 | J17: 1435.2382 | K17: 0 | M17: 1435.2382 | N17: 26004.716 | O17: 0.0007 | P17: 0.005
C18: France | D18: 22447.413 | E18: 0 | F18: 0 | I18: 22447.413 | J18: 1795.793 | K18: 0 | M18: 1795.793 | N18: 76050.092 | O18: 0.0009 | P18: 0.01
C19: Great-Britain | D19: 121633.09 | E19: 0 | F19: 0 | I19: 121633.09 | J19: 9730.6475 | K19: 0 | M19: 9730.6475 | N19: 87470.576 | O19: 0.0041 | P19: 0.02
C20: Greece | D20: 9370.5512 | E20: 0 | F20: 0 | I20: 9370.5512 | J20: 749.6441 | K20: 0 | M20: 749.6441 | N20: 12387.906 | O20: 0.0005 | P20: 0.0025
C21: Croatia | D21: 2885585.4 | E21: 0 | F21: 0 | I21: 2885585.4 | J21: 230846.83 | K21: 0 | M21: 230846.83 | N21: 1987644.2 | O21: 0.0921 | P21: 0.015
C22: Hungary | D22: 11878484 | E22: 0 | F22: 11548.911 | I22: 11890033 | J22: 950278.76 | K22: 923.91289 | M22: 951202.67 | N22: 7054477 | O22: 0.326055 | P22: 0.01
... C35: Uzbekistan | D35: 1109603.7 | E35: 0 | F35: 0 | I35: 1109603.7 | J35: 88768.298 | K35: 0 | M35: 88768.298 | N35: 1240242.3 | O35: 0.0435 | P35: 0.015
C36: Total | D36: 28822801 | E36: 0 | F36: 11673.617 | I36: 28834475 | J36: 2305824.1 | K36: 933.88934 | M36: 2306758 | N36: 21385907 | O36: 0.877455

Sheet CCyB2
B2: Back to contents page
B4: CCyB2 - Amount of institution-specific countercyclical capital buffer
C9: (in HUF million) | D9: =Contents!B3 -> 30.06.2026
C10: Total risk exposure amount | D10: 29241540
C11: Institution specific countercyclical capital buffer rate | D11: 0.011
C12: Institution specific countercyclical capital buffer requirement | D12: 321656.94

Sheet Leverage ratio

Sheet LR1
B2: Back to contents page
B4: LR1 - LRSum - Summary reconciliation of accounting assets and leverage ratio exposures
C8: =+Contents!B3 -> 30.06.2026
B9: (in HUF million) | D9: Applicable Amount
B10: 1 | C10: Total assets as per published financial statements | D10: 46866869
B11: 2 | C11: Adjustment for entities which are consolidated for accounting purposes but are outside the scope of prudential consolidation | D11: 0
B12: 3 | C12: (Adjustment for securitised exposures that meet the operational requirements for the recognition of risk transference) | D12: 0
B13: 4 | C13: (Adjustment for temporary exemption of exposures to central banks (if applicable)) | D13: 0
B14: 5 | C14: (Adjustment for fiduciary assets recognised on the balance sheet pursuant to the applicable accounting framework but excluded from the total exposure measure in accordance with point (i) of Article 429a(1) CRR) | D14: 0
B15: 6 | C15: Adjustment for regular-way purchases and sales of financial assets subject to trade date accounting | D15: 0
B16: 7 | C16: Adjustment for eligible cash pooling transactions | D16: 0
B17: 8 | C17: Adjustment for derivative financial instruments | D17: 548118
B18: 9 | C18: Adjustment for securities financing transactions (SFTs | D18: 1409036.2
B19: 10 | C19: Adjustment for off-balance sheet items (ie conversion to credit equivalent amounts of off-balance sheet exposures) | D19: 3454140.6
B20: 11 | C20: (Adjustment for prudent valuation adjustments and specific and general provisions which have reduced Tier 1 capital) | D20: 0
B21: EU-11a | C21: Adjustment for exposures excluded from the total exposure measure in accordance with point (c) of Article 429a(1) CRR) | D21: 0
B22: EU-11b | C22: (Adjustment for exposures excluded from the total exposure measure in accordance with point (j) of Article 429a(1) CRR) | D22: 0
B23: 12 | C23: Other adjustments | D23: -1055116.4
B24: 13 | C24: Total exposure measure | D24: 51223047

Sheet LR2
B2: Back to contents page
B4: LR2 - LRCom - Leverage ratio common disclosure
B6: The change of Tier1 capital and the leverage ratio total assets can have an impact on leverage ratio. Currently there is no regulatory minimum level for the leverage ratio. In line with the proposal of the European decision makers OTP Group considers 3% as minimum level of leverage ratio. Taking into accout that the current level of the leverage ratio exceeds this minimum level, there is no intention of decreasing the leverage ratio. The Group monitors the level of leverage ratio quarterly and as part of Recovery Plan indicators informs the Asset-Liability Committee. If the leverage ratio reaches crtical level, the Asset-Liability Committee asks the competent departments to prepare action plan in oder to handle the breaching the minimum level.
C9: (in HUF million) | D9: CRR leverage ratio exposures
D10: =Contents!B3 -> 30.06.2026 | E10: 31.12.2025
B11: On-balance sheet exposures (excluding derivatives and SFTs)
B12: 1 | C12: On-balance sheet items (excluding derivatives, SFTs, but including collateral) | D12: 45868093 | E12: 44568437
B13: 2 | C13: Gross-up for derivatives collateral provided, where deducted from the balance sheet assets pursuant to the applicable accounting framework | D13: 0 | E13: 0
B14: 3 | C14: (Deductions of receivables assets for cash variation margin provided in derivatives transactions) | D14: -28717.731 | E14: -21580.346
B15: 4 | C15: (Adjustment for securities received under securities financing transactions that are recognised as an asset) | D15: 0 | E15: 0
B16: 5 | C16: (General credit risk adjustments to on-balance sheet items) | D16: 0 | E16: 0
B17: 6 | C17: (Asset amounts deducted in determining Tier 1 capital) | D17: 0 | E17: -136657.28
B18: 7 | C18: Total on-balance sheet exposures (excluding derivatives and SFTs) | D18: 45839376 | E18: 44410199
B19: Derivative exposures
B20: 8 | C20: Replacement cost associated with SA-CCR derivatives transactions (ie net of eligible cash variation margin) | D20: -111150.28 | E20: -36614.537
B21: EU-8a | C21: Derogation for derivatives: replacement costs contribution under the simplified standardised approach | D21: 0 | E21: 0
B22: 9 | C22: Add-on amounts for potential future exposure associated with SA-CCR derivatives transactions | D22: 218886.28 | E22: 170439.08
B23: EU-9a | C23: Derogation for derivatives: Potential future exposure contribution under the simplified standardised approach | D23: 329231.71 | E23: 263992.59
B24: EU-9b | C24: Exposure determined under Original Exposure Method | D24: 0 | E24: 0
B25: 10 | C25: (Exempted CCP leg of client-cleared trade exposures) (SA-CCR) | D25: 0 | E25: 0
B26: EU-10a | C26: (Exempted CCP leg of client-cleared trade exposures) (simplified standardised approach) | D26: 0 | E26: 0
B27: EU-10b | C27: (Exempted CCP leg of client-cleared trade exposures) (Original Exposure Method) | D27: 0 | E27: 0
B28: 11 | C28: Adjusted effective notional amount of written credit derivatives | D28: 0 | E28: 0
B29: 12 | C29: (Adjusted effective notional offsets and add-on deductions for written credit derivatives) | D29: 0 | E29: 0
B30: 13 | C30: Total derivatives exposures | D30: 436967.71 | E30: 397817.14
B31: Securities financing transaction (SFT) exposures
B32: 14 | C32: Gross SFT assets (with no recognition of netting), after adjustment for sales accounting transactions | D32: 1409036.2 | E32: 350431.58
B33: 15 | C33: (Netted amounts of cash payables and cash receivables of gross SFT assets) | D33: 0 | E33: 0
B34: 16 | C34: Counterparty credit risk exposure for SFT assets | D34: 83527.023 | E34: 13478.09
B35: EU-16a | C35: Derogation for SFTs: Counterparty credit risk exposure in accordance with Articles 429e(5) and 222 CRR | D35: 0 | E35: 0
B36: 17 | C36: Agent transaction exposures | D36: 0 | E36: 0
B37: EU-17a | C37: (Exempted CCP leg of client-cleared SFT exposure) | D37: 0 | E37: 0
B38: 18 | C38: Total securities financing transaction exposures | D38: 1492563.2 | E38: 363909.67
B39: Other off-balance sheet exposures
B40: 19 | C40: Off-balance sheet exposures at gross notional amount | D40: 9346417.7 | E40: 9335252.7
B41: 20 | C41: (Adjustments for conversion to credit equivalent amounts) | D41: -5892277.1 | E41: -5822690.2
B42: 21 | C42: (General provisions deducted in determining Tier 1 capital and specific provisions associated associated with off-balance sheet exposures) | D42: 0 | E42: 0
B43: 22 | C43: Off-balance sheet exposures | D43: 3454140.6 | E43: 3512562.5
B44: Excluded exposures
B45: EU-22a | C45: (Exposures excluded from the total exposure measure in accordance with point (c) of Article 429a(1) CRR)
...

Sheet LR3
B2: Back to contents page
B4: LR3 - LRSpl - Split-up of on balance sheet exposures (excluding derivatives, SFTs and exempted exposures)
C8: =+Contents!B3 -> 30.06.2026
C9: (in HUF million) | D9: CRR leverage ratio exposures
B10: EU-1 | C10: Total on-balance sheet exposures (excluding derivatives, SFTs, and exempted exposures), of which: | D10: 45868093
B11: EU-2 | C11: Trading book exposures | D11: 31228.919
B12: EU-3 | C12: Banking book exposures, of which | D12: 45836864
B13: EU-4 | C13: Covered bonds | D13: 55854.214
B14: EU-5 | C14: Exposures treated as sovereigns | D14: 15081007
B15: EU-6 | C15: Exposures to regional governments, MDB, international organisations and PSE, not treated as sovereigns | D15: 485849.03
B16: EU-7 | C16: Institutions | D16: 991995.12
B17: EU-8 | C17: Secured by mortgages of immovable properties | D17: 10237864
B18: EU-9 | C18: Retail exposures | D18: 9521046.1
B19: EU-10 | C19: Corporate | D19: 7041478.5
B20: EU-11 | C20: Exposures in default | D20: 307598.77
B21: EU-12 | C21: Other exposures (eg equity, securitisations, and other non-credit obligation assets) | D21: 2114171.5

Sheet Liquidity requirements

Sheet LIQ1
B2: Back to contents page
B4: LIQ1 - Quantitative information of LCR
B6: LIQB table in text: OTP uses only the items in the LCR table to calculate the liquidity ratio. The Bank Group's liquidity reserves (HQLA) increased by € 885 million (2.8%) in the second quarter of 2026 and the net liquidity outflows also increased by € 1364 million (9.6%). The excess over the regulatory limit was ca. € 479 million lower than in the previous quarter. The Group’s consolidated LCR ratio decreased by around 14 percentage points to 212.3%. The level of liquidity reserves in relation to the risk profile did not change significantly, thereby still providing a reassuring cover for potentially arising liquidity risk events.
C9: (in HUF million) | D9: Total unweighted value (average) | H9: Total weighted value (average)
B10: EU 1a | C10: Quarter ending on (DD Month YYY) | D10: =+Contents!B3 -> 30.06.2026 | E10: 31.03.2026 | F10: 31.12.2025 | G10: 30.09.2025 | H10: =D10 -> 30.06.2026 | I10: =E10 -> 31.03.2026 | J10: =F10 -> 31.12.2025 | K10: =G10 -> 30.09.2025
B11: EU 1b | C11: Number of data points used in the calculation of averages | D11: 12 | E11: 12 | F11: 12 | G11: 12 | H11: 12 | I11: 12 | J11: 12 | K11: 12
B12: HIGH-QUALITY LIQUID ASSETS
B13: 1 | C13: Total high-quality liquid assets (HQLA) | H13: 12025107 | I13: 12168001 | J13: 12343060 | K13: 12475205
B14: CASH - OUTFLOWS
B15: 2 | C15: Retail deposits and deposits from small business customers, of which: | D15: 22539789 | E15: 22245691 | F15: 21724037 | G15: 21379590 | H15: 1480300.1 | I15: 1463543.6 | J15: 1432375.6 | K15: 1409008.7
B16: 3 | C16: Stable deposits | D16: 15938158 | E16: 15661021 | F16: 15234050 | G16: 14989874 | H16: 796907.91 | I16: 783051.04 | J16: 761702.52 | K16: 749493.69
B17: 4 | C17: Less stable deposits | D17: 5373560.8 | E17: 5350816.9 | F17: 5275468 | G17: 5201937 | H17: 670863.69 | I17: 667072.81 | J17: 656153.53 | K17: 644342.64
B18: 5 | C18: Unsecured wholesale funding | D18: 10845147 | E18: 10886132 | F18: 10900613 | G18: 10757311 | H18: 4706684.9 | I18: 4750419.3 | J18: 4795740.9 | K18: 4726733.9
B19: 6 | C19: Operational deposits (all counterparties) and deposits in networks of cooperative banks | D19: 431926.85 | E19: 447832.11 | F19: 454438.27 | G19: 485014.92 | H19: 106018.63 | I19: 109937.12 | J19: 111544.75 | K19: 119162.34
B20: 7 | C20: Non-operational deposits (all counterparties) | D20: 10383905 | E20: 10413176 | F20: 10399363 | G20: 10228342 | H20: 4571351.3 | I20: 4615357.8 | J20: 4637384.4 | K20: 4563617.3
B21: 8 | C21: Unsecured debt | D21: 29315.044 | E21: 25124.38 | F21: 46811.75 | G21: 43954.224 | H21: 29315.044 | I21: 25124.38 | J21: 46811.75 | K21: 43954.224
B22: 9 | C22: Secured wholesale funding | H22: 88.793567 | I22: 0 | J22: 0 | K22: 0
B23: 10 | C23: Additional requirements | D23: 5366072.9 | E23: 5196192.8 | F23: 5011155.5 | G23: 4854540.5 | H23: 862794.9 | I23: 839637.46 | J23: 832883.79 | K23: 806751.44
B24: 11 | C24: Outflows related to derivative exposures and other collateral requirements | D24: 124247.24 | E24: 120758.23 | F24: 130959.18 | G24: 124515.44 | H24: 124247.24 | I24: 120758.23 | J24: 130959.18 | K24: 124515.44
B25: 12 | C25: Outflows related to loss of funding on debt products | D25: 0 | E25: 0 | F25: 0 | G25: 0 | H25: 0 | I25: 0 | J25: 0 | K25: 0
B26: 13 | C26: Credit and liquidity facilities | D26: 5241825.7 | E26: 5075434.6 | F26: 4880196.4 | G26: 4730025 | H26: 738547.66 | I26: 718879.24 | J26: 701924.62 | K26: 682236
B27: 14 | C27: Other contractual funding obligations | D27: 319164.21 | E27: 321808.23 | F27: 334164.89 | G27: 334013.6 | H27: 165238.82 | I27: 173550.29 | J27: 200738.51 | K27: 224655.77
B28: 15 | C28: Other contingent funding obligations | D28: 2900594.8 | E28: 2719790 | F28: 2617785.1 | G28: 2574042 | H28: 60225.537 | I28: 57802.056 | J28: 54673.636 | K28: 52412.563
B29: 16 | C29: TOTAL CASH OUTFLOWS | H29: 7275333.1 | I29: 7284952.7 | J29: 7316412.4 | K29: 7219562.4
B30: CASH - INFLOWS
B31: 17 | C31: Secured lending (e.g. reverse repos) | D31: 225781.75 | E31: 324548.4 | F31: 391448.77 | G31: 402045.26 | H31: 69279.475 | I31: 123605.77 | J31: 188012.25 | K31: 230499.86
B32: 18 | C32: Inflows from fully performing exposures | D32: 2136590.1 | E32: 2093604.8 | F32: 1960328.9 | G32: 1814487.6 | H32: 1778394.2 | I32: 1730115.7 | J32: 1602836.3 | K32: 1473625.4
B33: 19 | C33: Other cash inflows | D33: 289159.5 | E33: 300430.07 | F33: 346679.91 | G33: 382657.66 | H33: 285577.38 | I33: 296806.45 | J33: 343071.84 | K33: 379063.09
B34: EU-19a | C34: (Difference between total weighted inflows and total weighted outflows arising from transactions in third countries where there are transfer restrictions or which are denominated in non-convertible currencies) | H34: 0 | I34: 0 | J34: 0 | K34: 0
B35: EU-19b | C35: (Excess inflows from a related specialised credit institution) | H35: 0 | I35: 0 | J35: 0 | K35: 0
B36: 20 | C36: TOTAL CASH INFLOWS | D36: 2651531.4 | E36: 2718583.3 | F36: 2698457.6 | G36: 2599190.5 | H36: 2133251 | I36: 2150527.9 | J36: 2133920.4 | K36: 2083188.3
B37: EU-20a | C37: Fully exempt inflows | D37: 0 | E37: 0 | F37: 0 | G37: 0 | H37: 0 | I37: 0 | J37: 0 | K37: 0
B38: EU-20b | C38: Inflows subject to 90% cap | D38: 0 | E38: 0 | F38: 0 | G38: 0 | H38: 0 | I38: 0 | J38: 0 | K38: 0
B39: EU-20c | C39: Inflows subject to 75% cap | D39: 2651531.4 | E39: 2718583.3 | F39: 2698457.6 | G39: 2599190.5 | H39: 2133251 | I39: 2150527.9 | J39: 2133920.4 | K39: 2083188.3
B40: TOTAL ADJUSTED VALUE
B41: 21 | C41: LIQUIDITY BUFFER | H41: 12025107 | I41: 12168001 | J41: 12343060 | K41: 12475205
B42: 22 | C42: TOTAL NET CASH OUTFLOWS | H42: 5142082 | I42: 5134424.8 | J42: 5182492.1 | K42: 5136374
B43: 23 | C43: LIQUIDITY COVERAGE RATIO | H43: 2.3446873 | I43: 2.3740306 | J43: 2.3839671 | K43: 2.4344407

Sheet LIQ2
B2: Back to contents page
B4: LIQ2 - Net Stable Funding Ratio
C8: =+Contents!B3 -> 30.06.2026
B9: (in currency amount) | D9: Unweighted value by residual maturity | H9: Weighted value
D10: No maturity | E10: < 6 months | F10: 6 months to < 1yr | G10: ≥ 1yr
B11: Available stable funding (ASF) Items
B12: 1 | C12: Capital items and instruments | D12: 0 | E12: 0 | F12: 0 | G12: 5.9495881e+12 | H12: 5.9495881e+12
B13: 2 | C13: Own funds | D13: 0 | E13: 0 | F13: 0 | G13: 5.9495881e+12 | H13: 5.9495881e+12
B14: 3 | C14: Other capital instruments | E14: 0 | F14: 0 | G14: 0 | H14: 0
B15: 4 | C15: Retail deposits | E15: 2.2026294e+13 | F15: 4.260069e+11 | G15: 3.0959906e+11 | H15: 2.1360887e+13
B16: 5 | C16: Stable deposits | E16: 1.6675565e+13 | F16: 2.0879136e+11 | G16: 2.0013371e+11 | H16: 1.6240272e+13
B17: 6 | C17: Less stable deposits | E17: 5.3507286e+12 | F17: 2.1721553e+11 | G17: 1.0946535e+11 | H17: 5.1206151e+12
B18: 7 | C18: Wholesale funding: | E18: 1.2183036e+13 | F18: 4.6506583e+11 | G18: 4.2565123e+12 | H18: 9.7148751e+12
B19: 8 | C19: Operational deposits | E19: 3.6420549e+11 | F19: 0 | G19: 0 | H19: 1.8210274e+11
B20: 9 | C20: Other wholesale funding | E20: 1.1818831e+13 | F20: 4.6506583e+11 | G20: 4.2565123e+12 | H20: 9.5327724e+12
B21: 10 | C21: Interdependent liabilities | E21: 11218621953 | F21: 0 | G21: 0 | H21: 0
B22: 11 | C22: Other liabilities: | D22: 0 | E22: 1.0393437e+12 | F22: 0 | G22: 0 | H22: 0
B23: 12 | C23: NSFR derivative liabilities | D23: 0
B24: 13 | C24: All other liabilities and capital instruments not included in the above categories | E24: 1.0393437e+12 | F24: 0 | G24: 0 | H24: 0
B25: 14 | C25: Total available stable funding (ASF) | H25: 3.702535e+13
B26: Required stable funding (RSF) Items
B27: 15 | C27: Total high-quality liquid assets (HQLA) | H27: 4.4824159e+11
B28: EU-15a | C28: Assets encumbered for a residual maturity of one year or more in a cover pool | E28: 0 | F28: 0 | G28: 0 | H28: 0
B29: 16 | C29: Deposits held at other financial institutions for operational purposes | E29: 3.2263266e+10 | F29: 0 | G29: 0 | H29: 1.6131633e+10
B30: 17 | C30: Performing loans and securities: | E30: 5.427598e+12 | F30: 2.5479916e+12 | G30: 1.9551705e+13 | H30: 1.9524742e+13
B31: 18 | C31: Performing securities financing transactions with financial customers collateralised by Level 1 HQLA subject to 0% haircut | E31: 7825940000 | F31: 1.5014672e+10 | G31: 2.0415341e+10 | H31: 2.8705271e+10
B32: 19 | C32: Performing securities financing transactions with financial customer collateralised by other assets and loans and advances to financial institutions | E32: 0 | F32: 0 | G32: 2.8169543e+10 | H32: 2.8169543e+10
B33: 20 | C33: Performing loans to non- financial corporate clients, loans to retail and small business customers, and loans to sovereigns, and PSEs, of which: | E33: 4.1273358e+12 | F33: 2.2123077e+12 | G33: 1.1908041e+13 | H33: 1.794176e+13
B34: 21 | C34: With a risk weight of less than or equal to 35% under the Basel II Standardised Approach for credit risk | E34: 2.6633544e+11 | F34: 1.9042406e+11 | G34: 4.9802735e+12 | H34: 3.4694758e+12
B35: 22 | C35: Performing residential mortgages, of which: | E35: 2.0508223e+11 | F35: 1.7127274e+11 | G35: 6.296216e+12 | H35: 0
B36: 23 | C36: With a risk weight of less than or equal to 35% under the Basel II Standardised Approach for credit risk | E36: 1.5254091e+11 | F36: 1.3163951e+11 | G36: 4.4664443e+12 | H36: 0
B37: 24 | C37: Other loans and securities that are not in default and do not qualify as HQLA, including exchange-traded equities and trade finance on- balance sheet products | E37: 1.0873541e+12 | F37: 1.4939649e+11 | G37: 1.2988634e+12 | H37: 1.5261077e+12
B38: 25 | C38: Interdependent assets | E38: 0 | F38: 0 | G38: 0 | H38: 0
B39: 26 | C39: Other assets: | D39: 0 | E39: 9.9471494e+11 | F39: 1.2196912e+11 | G39: 3.5148001e+12 | H39: 3.976317e+12
B40: 27 | C40: Physical traded commodities | G40: 0 | H40: 0
B41: 28 | C41: Assets posted as initial margin for derivative contracts and contributions to default funds of CCPs | E41: 55872516184 | F41: 0 | G41: 0 | H41: 4.7491639e+10
B42: 29 | C42: NSFR derivative assets | E42: 1.5958244e+11 | F42: 0 | G42: 0 | H42: 1.5958244e+11
B43: 30 | C43: NSFR derivative liabilities before deduction of variation margin posted | E43: 267187041390 | F43: 0 | G43: 0 | H43: 1.3359352e+10
B44: 31 | C44: All other assets not included in the above categories | E44: 5.1207294e+11 | F44: 1.2196912e+11 | G44: 3.5148001e+12 | H44: 3.7558836e+12
B45: 32 | C45: Off-balance sheet items | E45: 6.204687e+12 | F45: 1.8671611e+11 | G45: 1.1220347e+12 | H45: 5.4383803e+11
...

Sheet Exposures to CR, DR, CQ

Sheet CR1
B2: Back to contents page
B4: CR1 - Performing and non-performing exposures and related provisions
C8: =+Contents!B3 -> 30.06.2026
C9: (in HUF million) | D9: Gross carrying amount/nominal amount | J9: Accumulated impairment, accumulated negative changes in fair value due to credit risk and provisions | P9: Accumulated partial write-off | Q9: Collateral and financial guarantees received
D10: Performing exposures | G10: Non-performing exposures | J10: Performing exposures – accumulated impairment and provisions | M10: Non-performing exposures – accumulated impairment, accumulated negative changes in fair value due to credit risk and provisions | Q10: On performing exposures | R10: On non-performing exposures
E11: Of which stage 1 | F11: Of which stage 2 | H11: Of which stage 1 | I11: Of which stage 2 | K11: Of which stage 1 | L11: Of which stage 2 | N11: Of which stage 1 | O11: Of which stage 2
C12: Cash balances at central banks and other demand deposits | D12: 5596053.2 | E12: 5595909.6 | F12: 143.59055 | G12: 14.710174 | H12: 14.710174 | I12: 0 | J12: -4003.2416 | K12: -4001.8753 | L12: -1.3663 | M12: -2.493794 | N12: -2.493794 | O12: 0 | Q12: 14979.469 | R12: 0
C13: Loans and advances | D13: 28366663 | E13: 23602634 | F13: 2356243.5 | G13: 900893.48 | H13: 6802.399 | I13: 785270.82 | J13: -449052.21 | K13: -203162.77 | L13: -245682.41 | M13: -567884.03 | N13: -5634.9564 | O13: -521685.17 | P13: -168853.04 | Q13: 14096184 | R13: 194430.05
C14: Central banks | D14: 170233.84 | E14: 170233.84 | F14: 0 | G14: 0.036487 | H14: 0 | I14: 0.036487 | J14: -0.006182 | K14: -0.006182 | L14: 0 | M14: 0 | N14: 0 | O14: 0 | P14: 0 | Q14: 66789.32 | R14: 0
C15: General governments | D15: 702343.36 | E15: 619978.76 | F15: 67942.635 | G15: 742.93175 | H15: 1.354542 | I15: 741.57721 | J15: -5724.295 | K15: -2839.2275 | L15: -2885.0675 | M15: -439.5398 | N15: -1.204393 | O15: -438.33541 | P15: -15.395036 | Q15: 212943.26 | R15: 0
C16: Credit institutions | D16: 1014117.2 | E16: 1010621.6 | F16: 3495.6122 | G16: 1749.118 | H16: 830.0136 | I16: 919.10441 | J16: -4561.7162 | K16: -4480.2316 | L16: -81.484637 | M16: -918.86282 | N16: -6.404595 | O16: -912.45822 | P16: 0 | Q16: 327143.52 | R16: 0
C17: Other financial corporations | D17: 580577.55 | E17: 525382.71 | F17: 55194.836 | G17: 5858.2029 | H17: 2270.2097 | I17: 3031.3886 | J17: -6768.3414 | K17: -3345.0355 | L17: -3423.3059 | M17: -3414.6384 | N17: -1994.4843 | O17: -863.54943 | P17: -96.210966 | Q17: 167298.23 | R17: 0
C18: Non-financial corporations | D18: 9869352.9 | E18: 8744421.3 | F18: 1119764.3 | G18: 348286.6 | H18: 499.9508 | I18: 287921.32 | J18: -151469.87 | K18: -70769.75 | L18: -80668.24 | M18: -174842.05 | N18: -496.46068 | O18: -161672.77 | P18: -37260.732 | Q18: 4658123 | R18: 125300.99
C19: Of which SMEs | D19: 4151173.9 | E19: 3578951.9 | F19: 570548.85 | G19: 147886.41 | H19: 66.453747 | I19: 142070.51 | J19: -59448.584 | K19: -26095.446 | L19: -33343.583 | M19: -83272.981 | N19: -64.888806 | O19: -80546.86 | P19: -29529.698 | Q19: 2444609.8 | R19: 49436.953
C20: Households | D20: 16030038 | E20: 12531996 | F20: 1109846.1 | G20: 544256.59 | H20: 3200.8703 | I20: 492657.39 | J20: -280527.98 | K20: -121728.52 | L20: -158624.31 | M20: -388268.93 | N20: -3136.4025 | O20: -357798.06 | P20: -131480.71 | Q20: 8663886.6 | R20: 69129.068
C21: Debt securities | D21: 10286922 | E21: 10205431 | F21: 80515.147 | G21: 81340.145 | H21: 0 | I21: 81340.145 | J21: -28063.13 | K21: -23878.314 | L21: -4184.8158 | M21: -57997.557 | N21: 0 | O21: -57997.557 | P21: 0 | Q21: 22730.703 | R21: 0
C22: Central banks | D22: 1391605.1 | E22: 1391605.1 | F22: 0 | G22: 0 | H22: 0 | I22: 0 | J22: -29.827286 | K22: -29.827286 | L22: 0 | M22: 0 | N22: 0 | O22: 0 | P22: 0 | Q22: 0 | R22: 0
C23: General governments | D23: 8030406.3 | E23: 8030406.3 | F23: 0 | G23: 80290.305 | H23: 0 | I23: 80290.305 | J23: -21937.104 | K23: -21937.104 | L23: 0 | M23: -56947.717 | N23: 0 | O23: -56947.717 | P23: 0 | Q23: 0 | R23: 0
C24: Credit institutions | D24: 403888.71 | E24: 403888.71 | F24: 0 | G24: 0 | H24: 0 | I24: 0 | J24: -352.09897 | K24: -352.09897 | L24: 0 | M24: 0 | N24: 0 | O24: 0 | P24: 0 | Q24: 0 | R24: 0
... C26: Non-financial corporations | D26: 361310.42 | E26: 280795.27 | F26: 80515.147 | G26: 1049.8397 | H26: 0 | I26: 1049.8397 | J26: -5538.3995 | K26: -1353.5837 | L26: -4184.8158 | M26: -1049.8397 | N26: 0 | O26: -1049.8397 | P26: 0 | Q26: 1390.4365 | R26: 0
C27: Off-balance-sheet exposures | D27: 9361274.7 | E27: 8792837 | F27: 430261.12 | G27: 18962.868 | H27: 0 | I27: 17558.286 | J27: -52819.453 | K27: -36707.867 | L27: -14286.179 | M27: -6310.4176 | N27: 0 | O27: -5029.6289 | Q27: 859508.97 | R27: 3888.0724
C28: Central banks | D28: 12.7818 | E28: 12.7818 | F28: 0 | G28: 0 | H28: 0 | I28: 0 | J28: -0.086806 | K28: -0.086806 | L28: 0 | M28: 0 | N28: 0 | O28: 0 | Q28: 0 | R28: 0
C29: General governments | D29: 283811.27 | E29: 247653.7 | F29: 36148.019 | G29: 10.47149 | H29: 0 | I29: 10.47149 | J29: -1734.1945 | K29: -802.77323 | L29: -931.42125 | M29: -3.617249 | N29: 0 | O29: -3.617249 | Q29: 8486.8423 | R29: 0
C30: Credit institutions | D30: 670021.35 | E30: 620917.2 | F30: 3906.2822 | G30: 28.404 | H30: 0 | I30: 28.404 | J30: -2100.0941 | K30: -227.30649 | L30: -97.537655 | M30: -1.112865 | N30: 0 | O30: -1.112865 | Q30: 4722.0261 | R30: 0
C31: Other financial corporations | D31: 486460.24 | E31: 389190.79 | F31: 4556.9954 | G31: 0 | H31: 0 | I31: 0 | J31: -2157.125 | K31: -1984.7206 | L31: -172.40442 | M31: 0 | N31: 0 | O31: 0 | Q31: 143234.54 | R31: 0
C32: Non-financial corporations | D32: 6409181.2 | E32: 6091021.1 | F32: 318109.42 | G32: 15680.625 | H32: 0 | I32: 14282.624 | J32: -33999.482 | K32: -25360.282 | L32: -8638.5743 | M32: -5385.5 | N32: 0 | O32: -4106.7996 | Q32: 581372.09 | R32: 3815.7125
C33: Households | D33: 1511787.8 | E33: 1444041.4 | F33: 67540.403 | G33: 3243.3677 | H33: 0 | I33: 3236.7861 | J33: -12828.47 | K33: -8332.6987 | L33: -4446.2411 | M33: -920.1875 | N33: 0 | O33: -918.0992 | Q33: 121693.48 | R33: 72.359812
C34: Total | D34: 53610913 | E34: 48196812 | F34: 2867163.4 | G34: 1001211.2 | H34: 6817.1091 | I34: 884169.25 | J34: -533938.03 | K34: -267750.83 | L34: -264154.77 | M34: -632194.49 | N34: -5637.4502 | O34: -584712.36 | P34: -168853.04 | Q34: 14993403 | R34: 198318.13

Sheet CR1-A
B2: Back to contents page
B4: CR1-A - Maturity of exposures
C8: =+Contents!B3 -> 30.06.2026
C9: (in HUF million) | D9: Net exposure value
D10: On demand | E10: ≤ 1 year | F10: > 1 year ≤ 5 year | G10: > 5 year | H10: No stated maturity | I10: Total
C11: Loans and advances | D11: 0 | E11: 5070443.9 | F11: 6848376.6 | G11: 15674858 | H11: 413204.05 | I11: 28006882
C12: Debt securities | D12: 0 | E12: 2597191.3 | F12: 3692650.8 | G12: 3945230.1 | H12: 25831.456 | I12: 10260904
C13: Total | D13: 0 | E13: 7667635.2 | F13: 10541027 | G13: 19620088 | H13: 439035.51 | I13: 38267786

Sheet CR2
B2: Back to contents page
B4: CR2 - Changes in the stock of non-performing loans and advances
B6: The table contains changes in the stock of "defaulted" in accordance with the Article 178 of CRR.
C8: =+Contents!B3 -> 30.06.2026
C9: (in HUF million) | D9: Gross carrying value defaulted exposures
C10: Opening balance - 31.12.2025 | D10: 949809.31
C11: Loans and debt securities that have defaulted since the last reporting period | D11: 212058.46
C12: Returned to non-defaulted status | D12: 35380.558
C13: Amounts written-off | D13: 73856.201
C14: Other changes1 | D14: -166161.27
C15: Closing balance - 30.06.2026 (6 =1 + 2 - 3 - 4 + 5) | D15: 886469.75
C16: 1Includes partially or fully repaid portfolios as well as the FX effect

Sheet CQ1
B2: Back to contents page
B4: CQ1 - Credit quality of forborne exposures
C8: =+Contents!B3 -> 30.06.2026
C9: (in HUF million) | D9: Gross carrying amount/nominal amount of exposures with forbearance measures | H9: Accumulated impairment, accumulated negative changes in fair value due to credit risk and provisions | J9: Collateral received and financial guarantees received on forborne exposures
D10: Performing forborne | E10: Non-performing forborne | H10: On performing forborne exposures | I10: On non-performing forborne exposures | K10: Of which collateral and financial guarantees received on non-performing exposures with forbearance measures
F11: Of which defaulted | G11: Of which impaired
C12: Cash balances at central banks and other demand deposits | D12: 0 | E12: 0 | F12: 0 | G12: 0 | H12: 0 | I12: 0 | J12: 0 | K12: 0
C13: Loans and advances | D13: 174109.64 | E13: 270609.25 | F13: 270598.26 | G13: 268600.93 | H13: -41238.223 | I13: -134632.99 | J13: 153138.64 | K13: 79794.627
C14: Central banks | D14: 0 | E14: 0 | F14: 0 | G14: 0 | H14: 0 | I14: 0 | J14: 0 | K14: 0
C15: General governments | D15: 0 | E15: 0 | F15: 0 | G15: 0 | H15: 0 | I15: 0 | J15: 0 | K15: 0
C16: Credit institutions | D16: 0 | E16: 0 | F16: 0 | G16: 0 | H16: 0 | I16: 0 | J16: 0 | K16: 0
C17: Other financial corporations | D17: 0 | E17: 2579.0356 | F17: 2579.0356 | G17: 2579.0356 | H17: 0 | I17: -630.41253 | J17: 0 | K17: 0
C18: Non-financial corporations | D18: 81323.291 | E18: 140735.59 | F18: 140735.49 | G18: 140735.49 | H18: -10460.865 | I18: -56111.924 | J18: 114453.99 | K18: 57031.534
C19: Households | D19: 92786.349 | E19: 127294.62 | F19: 127283.73 | G19: 125286.41 | H19: -30777.358 | I19: -77890.653 | J19: 38684.652 | K19: 22763.093
C20: Debt securities | D20: 0 | E20: 0 | F20: 0 | G20: 0 | H20: 0 | I20: 0 | J20: 0 | K20: 0
C21: Loan commitments given | D21: 1754.5518 | E21: 3309.3871 | F21: 3309.3871 | G21: 3309.3871 | H21: -168.78144 | I21: -408.52815 | J21: 1257.3991 | K21: 284.55436
C22: Total | D22: 175864.19 | E22: 273918.64 | F22: 273907.65 | G22: 271910.32 | H22: -41407.005 | I22: -135041.52 | J22: 154396.04 | K22: 80079.182

Sheet CQ4
B2: Back to contents page
B4: CQ4 - Quality of non-performing exposures by geography
C8: =+Contents!B3 -> 30.06.2026
C9: (in HUF million) | D9: Gross carrying amount | H9: Accumulated impairment | I9: Provisions on off-balance-sheet commitments and financial guarantees given | J9: Accumulated negative changes in fair value due to credit risk on non-performing exposures
E10: Of which non-performing | G10: Of which loans and advances subject to impairment
F11: Of which defaulted
C12: On-balance-sheet exposures | D12: 45486664 | E12: 982248.33 | F12: 975431.22 | G12: 42815824 | H12: -1099693.5 | J12: -7309.1904
C13: Hungary | D13: 17814845 | E13: 278251.41 | F13: 272375.19 | G13: 15225391 | H13: -272082.46 | J13: -7309.1904
C14: Bulgaria | D14: 6254578 | E14: 98198.903 | F14: 98197.611 | G14: 6246832.2 | H14: -128543.9 | J14: 0
C15: Slovenia | D15: 3278842.7 | E15: 69109.095 | F15: 69108.903 | G15: 3271375.5 | H15: -34257.977 | J15: 0
C16: Croatia | D16: 3350185.7 | E16: 68970.368 | F16: 68969.936 | G16: 3346880.4 | H16: -75201.626 | J16: 0
C17: Serbia | D17: 3230850.7 | E17: 51710.608 | F17: 51708.85 | G17: 3226305.1 | H17: -71276.43 | J17: 0
C18: Russian Federation | D18: 3674336.6 | E18: 204503.64 | F18: 204503.29 | G18: 3674336.6 | H18: -301279.17 | J18: 0
C19: Uzbekistan | D19: 1415206.8 | E19: 139279.56 | F19: 139279.28 | G19: 1414748.5 | H19: -104619.95 | J19: 0
C20: Ukrain | D20: 888150.78 | E20: 20147.744 | F20: 20133.59 | G20: 887946.83 | H20: -44904.859 | J20: 0
C21: Other countries | D21: 5579667.6 | E21: 52077.01 | F21: 51154.581 | G21: 5522007.6 | H21: -67527.084 | J21: 0
C22: Off-balance-sheet exposures | D22: 9380237.6 | E22: 18962.868 | F22: 18962.868 | I22: 59129.871
C23: Hungary | D23: 3805357 | E23: 11269.083 | F23: 11269.083 | I23: 16956.591
C24: Bulgaria | D24: 935191.87 | E24: 200.50223 | F24: 200.50223 | I24: 9024.6859
C25: Slovenia | D25: 1215194.4 | E25: 3213.9145 | F25: 3213.9145 | I25: 3780.7662
C26: Croatia | D26: 851227.68 | E26: 1077.9591 | F26: 1077.9591 | I26: 4864.2489
C27: Serbia | D27: 823672.83 | E27: 366.46734 | F27: 366.46734 | I27: 7160.149
C28: Russian Federation | D28: 196958.41 | E28: 2193.8452 | F28: 2193.8452 | I28: 8266.6836
C29: Uzbekistan | D29: 69363.633 | E29: 61.230229 | F29: 61.230229 | I29: 1204.7487
C30: Ukrain | D30: 301643.13 | E30: 284.56954 | F30: 284.56954 | I30: 3405.7615
C31: Other countries | D31: 1181628.6 | E31: 295.29729 | F31: 295.29729 | I31: 4466.2357
C32: Total | D32: 54866901 | E32: 1001211.2 | F32: 994394.09 | G32: 42815824 | H32: -1099693.5 | I32: 59129.871 | J32: -7309.1904

Sheet CQ5
B2: Back to contents page
B4: CQ5 - Credit quality of loans and advances to non-financial corporations by industry
C8: =+Contents!B3 -> 30.06.2026
C9: (in HUF million) | D9: Gross carrying amount | H9: Accumulated impairment | I9: Accumulated negative changes in fair value due to credit risk on non-performing exposures
E10: Of which non-performing | G10: Of which loans and advances subject to impairment
F11: Of which defaulted
C12: Agriculture, forestry and fishing | D12: 527375 | E12: 29153.809 | F12: 29145.756 | G12: 527375 | H12: -24224.558 | I12: 0
C13: Mining and quarrying | D13: 56178.869 | E13: 765.35036 | F13: 765.31264 | G13: 56178.869 | H13: -9273.6088 | I13: 0
C14: Manufacturing | D14: 1846665.7 | E14: 141370.52 | F14: 141268.73 | G14: 1846665.2 | H14: -87695.003 | I14: 0
C15: Electricity, gas, steam and air conditioning supply | D15: 1012746 | E15: 1059.7198 | F15: 1058.8873 | G15: 1012720.5 | H15: -15403.353 | I15: 0
C16: Water supply | D16: 59729.415 | E16: 597.34563 | F16: 594.99182 | G16: 59729.415 | H16: -768.68649 | I16: 0
C17: Construction | D17: 691133.49 | E17: 21836.101 | F17: 21776.072 | G17: 691133.49 | H17: -22841.252 | I17: 0
C18: Wholesale and retail trade | D18: 2149712.8 | E18: 55334.411 | F18: 55235.212 | G18: 2149710.5 | H18: -68403.674 | I18: 0
C19: Transport and storage | D19: 615605.26 | E19: 17849.877 | F19: 17839.88 | G19: 615605.26 | H19: -15519.832 | I19: 0
C20: Accommodation and food service activities | D20: 441597.51 | E20: 7774.3689 | F20: 7762.2826 | G20: 441591.33 | H20: -15142.41 | I20: 0
C21: Information and communication | D21: 238969.36 | E21: 5417.7021 | F21: 5402.5906 | G21: 238969.36 | H21: -6836.9839 | I21: 0
C22: Financial and insurance activities | D22: 239716.49 | E22: 547.39384 | F22: 542.87013 | G22: 239338.22 | H22: -2128.989 | I22: 0
C23: Real estate activities | D23: 1104199.9 | E23: 26096.526 | F23: 26076.611 | G23: 1104199.9 | H23: -20355.467 | I23: 0
... C31: Total | D31: 10217640 | E31: 348286.6 | F31: 347786.65 | G31: 10217227 | H31: -326311.92 | I31: 0

Sheet CQ7
B2: Back to contents page
B4: CQ7 - Collateral obtained by taking possession and execution processes
C8: =+Contents!B3 -> 30.06.2026
